BEGIN:VCALENDAR
VERSION:2.0
PRODID:-//Longden Parish Council//Meeting Calendar//EN
CALSCALE:GREGORIAN
METHOD:PUBLISH
BEGIN:VEVENT
UID:70361-20210428@longdenparishcouncil.gov.uk
DTSTAMP:20260424T085000Z
DTSTART;VALUE=DATE:20210428
DTEND;VALUE=DATE:20210429
SUMMARY:Planning Meeting &#8211\\; 28th April 2021
DESCRIPTION:Planning Committee Meeting\nView details: https://longdenparishcouncil.gov.uk/meetings/planning-meeting-28th-april-2021/
URL:https://longdenparishcouncil.gov.uk/meetings/planning-meeting-28th-april-2021/
END:VEVENT
END:VCALENDAR
