BEGIN:VCALENDAR
VERSION:2.0
PRODID:-//Longden Parish Council//Meeting Calendar//EN
CALSCALE:GREGORIAN
METHOD:PUBLISH
BEGIN:VEVENT
UID:70365-20200818@longdenparishcouncil.gov.uk
DTSTAMP:20260420T100505Z
DTSTART;VALUE=DATE:20200818
DTEND;VALUE=DATE:20200819
SUMMARY:Planning Meeting &#8211\\; 18th August 2020
DESCRIPTION:Planning Committee Meeting\nView details: https://longdenparishcouncil.gov.uk/meetings/planning-meeting-august-2020/
URL:https://longdenparishcouncil.gov.uk/meetings/planning-meeting-august-2020/
END:VEVENT
END:VCALENDAR
