BEGIN:VCALENDAR
VERSION:2.0
PRODID:-//Longden Parish Council//Meeting Calendar//EN
CALSCALE:GREGORIAN
METHOD:PUBLISH
BEGIN:VEVENT
UID:70369-20171115@longdenparishcouncil.gov.uk
DTSTAMP:20260424T102444Z
DTSTART;VALUE=DATE:20171115
DTEND;VALUE=DATE:20171116
SUMMARY:Planning Meeting &#8211\\; 15th November 2017
DESCRIPTION:Planning Committee Meeting\nView details: https://longdenparishcouncil.gov.uk/meetings/planning-minutes-november-2017/
URL:https://longdenparishcouncil.gov.uk/meetings/planning-minutes-november-2017/
END:VEVENT
END:VCALENDAR
