BEGIN:VCALENDAR
VERSION:2.0
PRODID:-//Longden Parish Council//Meeting Calendar//EN
CALSCALE:GREGORIAN
METHOD:PUBLISH
BEGIN:VEVENT
UID:70372-20170621@longdenparishcouncil.gov.uk
DTSTAMP:20260422T083653Z
DTSTART;VALUE=DATE:20170621
DTEND;VALUE=DATE:20170622
SUMMARY:Planning Meeting &#8211\\; 21st June 2017
DESCRIPTION:Planning Committee Meeting\nView details: https://longdenparishcouncil.gov.uk/meetings/planning-meeting-june-2017/
URL:https://longdenparishcouncil.gov.uk/meetings/planning-meeting-june-2017/
END:VEVENT
END:VCALENDAR
