BEGIN:VCALENDAR
VERSION:2.0
PRODID:-//Longden Parish Council//Meeting Calendar//EN
CALSCALE:GREGORIAN
METHOD:PUBLISH
BEGIN:VEVENT
UID:70379-20210811@longdenparishcouncil.gov.uk
DTSTAMP:20260420T090246Z
DTSTART;VALUE=DATE:20210811
DTEND;VALUE=DATE:20210812
SUMMARY:Planning Meeting &#8211\\; 11th August 2021
DESCRIPTION:Planning Committee Meeting\nView details: https://longdenparishcouncil.gov.uk/meetings/planning-meeting-11th-august-2021/
URL:https://longdenparishcouncil.gov.uk/meetings/planning-meeting-11th-august-2021/
END:VEVENT
END:VCALENDAR
