BEGIN:VCALENDAR
VERSION:2.0
PRODID:-//Longden Parish Council//Meeting Calendar//EN
CALSCALE:GREGORIAN
METHOD:PUBLISH
BEGIN:VEVENT
UID:70385-20190127@longdenparishcouncil.gov.uk
DTSTAMP:20260420T101022Z
DTSTART;VALUE=DATE:20190127
DTEND;VALUE=DATE:20190128
SUMMARY:Response to Local Plan &#8211\\; 27th January 2021
DESCRIPTION:Planning Committee Meeting\nView details: https://longdenparishcouncil.gov.uk/meetings/response-to-local-plan-27th-january-2021/
URL:https://longdenparishcouncil.gov.uk/meetings/response-to-local-plan-27th-january-2021/
END:VEVENT
END:VCALENDAR
