BEGIN:VCALENDAR
VERSION:2.0
PRODID:-//Longden Parish Council//Meeting Calendar//EN
CALSCALE:GREGORIAN
METHOD:PUBLISH
BEGIN:VEVENT
UID:70387-20161123@longdenparishcouncil.gov.uk
DTSTAMP:20260424T102444Z
DTSTART;VALUE=DATE:20161123
DTEND;VALUE=DATE:20161124
SUMMARY:Finance Meeting &#8211\\; Extraordinary &#8211\\; November 2016
DESCRIPTION:Finance Committee Meeting\nView details: https://longdenparishcouncil.gov.uk/meetings/finance-meeting-extraordinary-november-2016/
URL:https://longdenparishcouncil.gov.uk/meetings/finance-meeting-extraordinary-november-2016/
END:VEVENT
END:VCALENDAR
