BEGIN:VCALENDAR
VERSION:2.0
PRODID:-//Longden Parish Council//Meeting Calendar//EN
CALSCALE:GREGORIAN
METHOD:PUBLISH
BEGIN:VEVENT
UID:70389-20161212@longdenparishcouncil.gov.uk
DTSTAMP:20260424T102423Z
DTSTART;VALUE=DATE:20161212
DTEND;VALUE=DATE:20161213
SUMMARY:Finance Meeting &#8211\\; 12th December 2016
DESCRIPTION:Finance Committee Meeting\nView details: https://longdenparishcouncil.gov.uk/meetings/finance-meeting-12th-december-2016/
URL:https://longdenparishcouncil.gov.uk/meetings/finance-meeting-12th-december-2016/
END:VEVENT
END:VCALENDAR
