BEGIN:VCALENDAR
VERSION:2.0
PRODID:-//Longden Parish Council//Meeting Calendar//EN
CALSCALE:GREGORIAN
METHOD:PUBLISH
BEGIN:VEVENT
UID:70391-20191106@longdenparishcouncil.gov.uk
DTSTAMP:20260424T102413Z
DTSTART;VALUE=DATE:20191106
DTEND;VALUE=DATE:20191107
SUMMARY:Finance Meeting &#8211\\; 6th November 2019
DESCRIPTION:Finance Committee Meeting\nView details: https://longdenparishcouncil.gov.uk/meetings/finance-meeting-6th-november-2019/
URL:https://longdenparishcouncil.gov.uk/meetings/finance-meeting-6th-november-2019/
END:VEVENT
END:VCALENDAR
