BEGIN:VCALENDAR
VERSION:2.0
PRODID:-//Longden Parish Council//Meeting Calendar//EN
CALSCALE:GREGORIAN
METHOD:PUBLISH
BEGIN:VEVENT
UID:70399-20221116@longdenparishcouncil.gov.uk
DTSTAMP:20260424T084956Z
DTSTART;VALUE=DATE:20221116
DTEND;VALUE=DATE:20221117
SUMMARY:Finance Meeting &#8211\\; 16th November 2022
DESCRIPTION:Finance Committee Meeting\nView details: https://longdenparishcouncil.gov.uk/meetings/finance-meeting-16th-november-2022-2/
URL:https://longdenparishcouncil.gov.uk/meetings/finance-meeting-16th-november-2022-2/
END:VEVENT
END:VCALENDAR
