BEGIN:VCALENDAR
VERSION:2.0
PRODID:-//Longden Parish Council//Meeting Calendar//EN
CALSCALE:GREGORIAN
METHOD:PUBLISH
BEGIN:VEVENT
UID:70402-20211124@longdenparishcouncil.gov.uk
DTSTAMP:20260424T102423Z
DTSTART;VALUE=DATE:20211124
DTEND;VALUE=DATE:20211125
SUMMARY:Finance Meeting – 24th November 2021
DESCRIPTION:Finance Committee Meeting\nView details: https://longdenparishcouncil.gov.uk/meetings/finance-meeting-24th-november-2021-2/
URL:https://longdenparishcouncil.gov.uk/meetings/finance-meeting-24th-november-2021-2/
END:VEVENT
END:VCALENDAR
