BEGIN:VCALENDAR
VERSION:2.0
PRODID:-//Longden Parish Council//Meeting Calendar//EN
CALSCALE:GREGORIAN
METHOD:PUBLISH
BEGIN:VEVENT
UID:70412-20171123@longdenparishcouncil.gov.uk
DTSTAMP:20260424T143043Z
DTSTART;VALUE=DATE:20171123
DTEND;VALUE=DATE:20171124
SUMMARY:Finance Meeting &#8211\\; 23rd November 2017
DESCRIPTION:Finance Committee Meeting\nView details: https://longdenparishcouncil.gov.uk/meetings/finance-meeting-23rd-november-2017/
URL:https://longdenparishcouncil.gov.uk/meetings/finance-meeting-23rd-november-2017/
END:VEVENT
END:VCALENDAR
