BEGIN:VCALENDAR
VERSION:2.0
PRODID:-//Longden Parish Council//Meeting Calendar//EN
CALSCALE:GREGORIAN
METHOD:PUBLISH
BEGIN:VEVENT
UID:70415-20181213@longdenparishcouncil.gov.uk
DTSTAMP:20260424T102412Z
DTSTART;VALUE=DATE:20181213
DTEND;VALUE=DATE:20181214
SUMMARY:Finance Meeting &#8211\\; 13th December 2018
DESCRIPTION:Finance Committee Meeting\nView details: https://longdenparishcouncil.gov.uk/meetings/finance-meeting-13th-december-2018/
URL:https://longdenparishcouncil.gov.uk/meetings/finance-meeting-13th-december-2018/
END:VEVENT
END:VCALENDAR
