BEGIN:VCALENDAR
VERSION:2.0
PRODID:-//Longden Parish Council//Meeting Calendar//EN
CALSCALE:GREGORIAN
METHOD:PUBLISH
BEGIN:VEVENT
UID:70420-20230329@longdenparishcouncil.gov.uk
DTSTAMP:20260424T115513Z
DTSTART;VALUE=DATE:20230329
DTEND;VALUE=DATE:20230330
SUMMARY:Annual Meeting &#8211\\; 29th March 2023
DESCRIPTION:Annual Meeting\nView details: https://longdenparishcouncil.gov.uk/meetings/annual-meeting-29th-march-2023/
URL:https://longdenparishcouncil.gov.uk/meetings/annual-meeting-29th-march-2023/
END:VEVENT
END:VCALENDAR
