BEGIN:VCALENDAR
VERSION:2.0
PRODID:-//Longden Parish Council//Meeting Calendar//EN
CALSCALE:GREGORIAN
METHOD:PUBLISH
BEGIN:VEVENT
UID:70427-20220518@longdenparishcouncil.gov.uk
DTSTAMP:20260424T120151Z
DTSTART;VALUE=DATE:20220518
DTEND;VALUE=DATE:20220519
SUMMARY:Annual Meeting &#8211\\; 18th May 2022
DESCRIPTION:Annual Meeting\nView details: https://longdenparishcouncil.gov.uk/meetings/annual-meeting-18th-may-2022/
URL:https://longdenparishcouncil.gov.uk/meetings/annual-meeting-18th-may-2022/
END:VEVENT
END:VCALENDAR
