BEGIN:VCALENDAR
VERSION:2.0
PRODID:-//Longden Parish Council//Meeting Calendar//EN
CALSCALE:GREGORIAN
METHOD:PUBLISH
BEGIN:VEVENT
UID:70432-20210518@longdenparishcouncil.gov.uk
DTSTAMP:20260424T120237Z
DTSTART;VALUE=DATE:20210518
DTEND;VALUE=DATE:20210519
SUMMARY:Annual Meeting &#8211\\; 18th May 2021
DESCRIPTION:Annual Meeting\nView details: https://longdenparishcouncil.gov.uk/meetings/annual-meeting-18th-may-2021/
URL:https://longdenparishcouncil.gov.uk/meetings/annual-meeting-18th-may-2021/
END:VEVENT
END:VCALENDAR
