BEGIN:VCALENDAR
VERSION:2.0
PRODID:-//Longden Parish Council//Meeting Calendar//EN
CALSCALE:GREGORIAN
METHOD:PUBLISH
BEGIN:VEVENT
UID:70437-20180515@longdenparishcouncil.gov.uk
DTSTAMP:20260424T114603Z
DTSTART;VALUE=DATE:20180515
DTEND;VALUE=DATE:20180516
SUMMARY:Annual Meeting &#8211\\; 15th May 2018
DESCRIPTION:Annual Meeting\nView details: https://longdenparishcouncil.gov.uk/meetings/annual-meeting-15th-may-2018/
URL:https://longdenparishcouncil.gov.uk/meetings/annual-meeting-15th-may-2018/
END:VEVENT
END:VCALENDAR
