BEGIN:VCALENDAR
VERSION:2.0
PRODID:-//Longden Parish Council//Meeting Calendar//EN
CALSCALE:GREGORIAN
METHOD:PUBLISH
BEGIN:VEVENT
UID:70706-20221102@longdenparishcouncil.gov.uk
DTSTAMP:20260423T100451Z
DTSTART;VALUE=DATE:20221102
DTEND;VALUE=DATE:20221103
SUMMARY:Council meeting &#8211\\; 2nd November 2022
DESCRIPTION:Full Council Meeting\nView details: https://longdenparishcouncil.gov.uk/meetings/council-meeting-2nd-november-2022/
URL:https://longdenparishcouncil.gov.uk/meetings/council-meeting-2nd-november-2022/
END:VEVENT
END:VCALENDAR
