BEGIN:VCALENDAR
VERSION:2.0
PRODID:-//Longden Parish Council//Meeting Calendar//EN
CALSCALE:GREGORIAN
METHOD:PUBLISH
BEGIN:VEVENT
UID:70714-20221005@longdenparishcouncil.gov.uk
DTSTAMP:20260423T085116Z
DTSTART;VALUE=DATE:20221005
DTEND;VALUE=DATE:20221006
SUMMARY:Council meeting &#8211\\; 5th October 2022
DESCRIPTION:Full Council Meeting\nView details: https://longdenparishcouncil.gov.uk/meetings/council-meeting-5th-october-2022/
URL:https://longdenparishcouncil.gov.uk/meetings/council-meeting-5th-october-2022/
END:VEVENT
END:VCALENDAR
