BEGIN:VCALENDAR
VERSION:2.0
PRODID:-//Longden Parish Council//Meeting Calendar//EN
CALSCALE:GREGORIAN
METHOD:PUBLISH
BEGIN:VEVENT
UID:70718-20221207@longdenparishcouncil.gov.uk
DTSTAMP:20260423T123536Z
DTSTART;VALUE=DATE:20221207
DTEND;VALUE=DATE:20221208
SUMMARY:Council meeting &#8211\\; 7th December 2022
DESCRIPTION:Full Council Meeting\nView details: https://longdenparishcouncil.gov.uk/meetings/council-meeting-7th-december-2022/
URL:https://longdenparishcouncil.gov.uk/meetings/council-meeting-7th-december-2022/
END:VEVENT
END:VCALENDAR
