BEGIN:VCALENDAR
VERSION:2.0
PRODID:-//Longden Parish Council//Meeting Calendar//EN
CALSCALE:GREGORIAN
METHOD:PUBLISH
BEGIN:VEVENT
UID:70722-20220907@longdenparishcouncil.gov.uk
DTSTAMP:20260423T085231Z
DTSTART;VALUE=DATE:20220907
DTEND;VALUE=DATE:20220908
SUMMARY:Council meeting &#8211\\; 7th September 2022
DESCRIPTION:Full Council Meeting\nView details: https://longdenparishcouncil.gov.uk/meetings/council-meeting-7th-september-2022/
URL:https://longdenparishcouncil.gov.uk/meetings/council-meeting-7th-september-2022/
END:VEVENT
END:VCALENDAR
