BEGIN:VCALENDAR
VERSION:2.0
PRODID:-//Longden Parish Council//Meeting Calendar//EN
CALSCALE:GREGORIAN
METHOD:PUBLISH
BEGIN:VEVENT
UID:70726-20221201@longdenparishcouncil.gov.uk
DTSTAMP:20260423T112951Z
DTSTART;VALUE=DATE:20221201
DTEND;VALUE=DATE:20221202
SUMMARY:Council meeting &#8211\\; 1st December 2022
DESCRIPTION:Full Council Meeting\nView details: https://longdenparishcouncil.gov.uk/meetings/council-meeting-1st-december-2022/
URL:https://longdenparishcouncil.gov.uk/meetings/council-meeting-1st-december-2022/
END:VEVENT
END:VCALENDAR
