BEGIN:VCALENDAR
VERSION:2.0
PRODID:-//Longden Parish Council//Meeting Calendar//EN
CALSCALE:GREGORIAN
METHOD:PUBLISH
BEGIN:VEVENT
UID:70738-20220504@longdenparishcouncil.gov.uk
DTSTAMP:20260424T115636Z
DTSTART;VALUE=DATE:20220504
DTEND;VALUE=DATE:20220505
SUMMARY:Annual meeting &#8211\\; 4th May 2022
DESCRIPTION:Annual Meeting\nView details: https://longdenparishcouncil.gov.uk/meetings/meeting-name-here-2/
URL:https://longdenparishcouncil.gov.uk/meetings/meeting-name-here-2/
END:VEVENT
END:VCALENDAR
