BEGIN:VCALENDAR
VERSION:2.0
PRODID:-//Longden Parish Council//Meeting Calendar//EN
CALSCALE:GREGORIAN
METHOD:PUBLISH
BEGIN:VEVENT
UID:70785-20200205@longdenparishcouncil.gov.uk
DTSTAMP:20260421T080904Z
DTSTART;VALUE=DATE:20200205
DTEND;VALUE=DATE:20200206
SUMMARY:Council meeting &#8211\\; 5th February 2020
DESCRIPTION:Full Council Meeting\nView details: https://longdenparishcouncil.gov.uk/meetings/meeting-name-here-8/
URL:https://longdenparishcouncil.gov.uk/meetings/meeting-name-here-8/
END:VEVENT
END:VCALENDAR
