BEGIN:VCALENDAR
VERSION:2.0
PRODID:-//Longden Parish Council//Meeting Calendar//EN
CALSCALE:GREGORIAN
METHOD:PUBLISH
BEGIN:VEVENT
UID:70861-20190501@longdenparishcouncil.gov.uk
DTSTAMP:20260424T102550Z
DTSTART;VALUE=DATE:20190501
DTEND;VALUE=DATE:20190502
SUMMARY:Council meeting &#8211\\; 1st May 2019
DESCRIPTION:Full Council Meeting\nView details: https://longdenparishcouncil.gov.uk/meetings/council-meeting-1st-may-2019/
URL:https://longdenparishcouncil.gov.uk/meetings/council-meeting-1st-may-2019/
END:VEVENT
END:VCALENDAR
