BEGIN:VCALENDAR
VERSION:2.0
PRODID:-//Longden Parish Council//Meeting Calendar//EN
CALSCALE:GREGORIAN
METHOD:PUBLISH
BEGIN:VEVENT
UID:71581-20240807@longdenparishcouncil.gov.uk
DTSTAMP:20260420T090348Z
DTSTART;VALUE=DATE:20240807
DTEND;VALUE=DATE:20240808
SUMMARY:Planning Committee
DESCRIPTION:Planning Committee Meeting\nView details: https://longdenparishcouncil.gov.uk/meetings/planning-committee/
URL:https://longdenparishcouncil.gov.uk/meetings/planning-committee/
END:VEVENT
END:VCALENDAR
