BEGIN:VCALENDAR
VERSION:2.0
PRODID:-//Longden Parish Council//Meeting Calendar//EN
CALSCALE:GREGORIAN
METHOD:PUBLISH
BEGIN:VEVENT
UID:71678-20241127@longdenparishcouncil.gov.uk
DTSTAMP:20260424T102550Z
DTSTART;VALUE=DATE:20241127
DTEND;VALUE=DATE:20241128
SUMMARY:Finance Committee
DESCRIPTION:Finance Committee Meeting\nView details: https://longdenparishcouncil.gov.uk/meetings/meeting-name-here-15/
URL:https://longdenparishcouncil.gov.uk/meetings/meeting-name-here-15/
END:VEVENT
END:VCALENDAR
