BEGIN:VCALENDAR
VERSION:2.0
PRODID:-//Longden Parish Council//Meeting Calendar//EN
CALSCALE:GREGORIAN
METHOD:PUBLISH
BEGIN:VEVENT
UID:72161-20251119@longdenparishcouncil.gov.uk
DTSTAMP:20260424T085107Z
DTSTART;VALUE=DATE:20251119
DTEND;VALUE=DATE:20251120
SUMMARY:Finance Committee Meeting
DESCRIPTION:Finance Committee Meeting\nView details: https://longdenparishcouncil.gov.uk/meetings/finance-committee-meeting-2/
URL:https://longdenparishcouncil.gov.uk/meetings/finance-committee-meeting-2/
END:VEVENT
END:VCALENDAR
