BEGIN:VCALENDAR
VERSION:2.0
PRODID:-//Longden Parish Council//Meeting Calendar//EN
CALSCALE:GREGORIAN
METHOD:PUBLISH
BEGIN:VEVENT
UID:72204-20260304@longdenparishcouncil.gov.uk
DTSTAMP:20260422T083725Z
DTSTART;VALUE=DATE:20260304
DTEND;VALUE=DATE:20260305
SUMMARY:Full Council Meeting
DESCRIPTION:Full Council Meeting\nView details: https://longdenparishcouncil.gov.uk/meetings/meeting-name-here-18/
URL:https://longdenparishcouncil.gov.uk/meetings/meeting-name-here-18/
END:VEVENT
END:VCALENDAR
