BEGIN:VCALENDAR
VERSION:2.0
PRODID:-//Longden Parish Council//Meeting Calendar//EN
CALSCALE:GREGORIAN
METHOD:PUBLISH
BEGIN:VEVENT
UID:72258-20260506@longdenparishcouncil.gov.uk
DTSTAMP:20260425T132303Z
DTSTART;VALUE=DATE:20260506
DTEND;VALUE=DATE:20260507
SUMMARY:Annual Council Meeting
DESCRIPTION:Annual Meeting\nView details: https://longdenparishcouncil.gov.uk/meetings/annual-council-meeting/
URL:https://longdenparishcouncil.gov.uk/meetings/annual-council-meeting/
END:VEVENT
END:VCALENDAR
